BEGIN:VCALENDAR
PRODID:-//github.com/ical-org/ical.net//NONSGML ical.net 4.0//EN
VERSION:2.0
X-WR-CALNAME:generationennetz balingen Kalender
BEGIN:VEVENT
DESCRIPTION:Gemeinsam wollen wir für den Winterzauber wieder wunderschöne 
 Kränze binden.
DTSTAMP:20260421T153928Z
DTSTART;VALUE=DATE:20261113
LOCATION:erlebnisreich wohnen\, Spitalwiese 1
SEQUENCE:0
SUMMARY:Kranzen
UID:g1875
URL:https://www.generationennetz-bl.de/termin/details/1875
END:VEVENT
END:VCALENDAR
