BEGIN:VCALENDAR
PRODID:-//github.com/ical-org/ical.net//NONSGML ical.net 4.0//EN
VERSION:2.0
X-WR-CALNAME:generationennetz balingen Kalender
BEGIN:VEVENT
DESCRIPTION:Gemeinsam wollen wir für den Winterzauber wieder leckere "Bred
 le" backen.
DTSTAMP:20260421T153453Z
DTSTART;VALUE=DATE:20261105
LOCATION:Essbar im erlebnisreich wohnen\, Spitalwiese 1
SEQUENCE:0
SUMMARY:Backen für den Winterzauber
UID:g1876
URL:https://www.generationennetz-bl.de/termin/details/1876
END:VEVENT
END:VCALENDAR
